BEGIN:VCALENDAR
VERSION:2.0
PRODID:-//Hively - ECPv6.15.20//NONSGML v1.0//EN
CALSCALE:GREGORIAN
METHOD:PUBLISH
X-WR-CALNAME:Hively
X-ORIGINAL-URL:https://behively.org/hi/
X-WR-CALDESC:Events for Hively
REFRESH-INTERVAL;VALUE=DURATION:PT1H
X-Robots-Tag:noindex
X-PUBLISHED-TTL:PT1H
BEGIN:VTIMEZONE
TZID:America/Los_Angeles
BEGIN:DAYLIGHT
TZOFFSETFROM:-0800
TZOFFSETTO:-0700
TZNAME:PDT
DTSTART:20250309T100000
END:DAYLIGHT
BEGIN:STANDARD
TZOFFSETFROM:-0700
TZOFFSETTO:-0800
TZNAME:PST
DTSTART:20251102T090000
END:STANDARD
BEGIN:DAYLIGHT
TZOFFSETFROM:-0800
TZOFFSETTO:-0700
TZNAME:PDT
DTSTART:20260308T100000
END:DAYLIGHT
BEGIN:STANDARD
TZOFFSETFROM:-0700
TZOFFSETTO:-0800
TZNAME:PST
DTSTART:20261101T090000
END:STANDARD
BEGIN:DAYLIGHT
TZOFFSETFROM:-0800
TZOFFSETTO:-0700
TZNAME:PDT
DTSTART:20270314T100000
END:DAYLIGHT
BEGIN:STANDARD
TZOFFSETFROM:-0700
TZOFFSETTO:-0800
TZNAME:PST
DTSTART:20271107T090000
END:STANDARD
END:VTIMEZONE
BEGIN:VEVENT
DTSTART;TZID=America/Los_Angeles:20260205T110000
DTEND;TZID=America/Los_Angeles:20260205T120000
DTSTAMP:20260424T083554
CREATED:20260202T180412Z
LAST-MODIFIED:20260202T180412Z
UID:10000326-1770289200-1770292800@behively.org
SUMMARY:Play & Learn Series (For Family\, Friend & Neighbor Unlicensed Child Care Providers)
DESCRIPTION:Do you care for your grandchild\, niece/nephew\, a friend’s child\, or your neighbor’s child? This is sometimes referred to as a babysitter\, a nanny\, a license-exempt child care provider\, or Family\, Friend\, or Neighbor (FFN). \nIf you are one of the above\, please join us for our 4 week playgroup learning series where we will:\n– Engage with other Family\, Friend\, or Neighbors (FFN).\n– Discuss various training topics such as\, school readiness\, social-emotional\, health and safety\, & STEAM!\n– Actively participate in activities with the children in your care.\n– You’ll receive a FREE toy(s) for your participation in each meeting you attend.\n– There is a MONETARY STIPEND AVAILABLE (based on eligibility) \nClick HERE to register.
URL:https://behively.org/hi/event/play-learn-series-for-family-friend-neighbor-unlicensed-child-care-providers/2026-02-05/
LOCATION:Zoom
CATEGORIES:Child Care Providers
END:VEVENT
BEGIN:VEVENT
DTSTART;TZID=America/Los_Angeles:20260210T180000
DTEND;TZID=America/Los_Angeles:20260210T190000
DTSTAMP:20260424T083554
CREATED:20250827T154729Z
LAST-MODIFIED:20251104T173331Z
UID:10000046-1770746400-1770750000@behively.org
SUMMARY:Valley Family Child Care Association of Alameda County Monthly Membership Meeting
DESCRIPTION:Valley Family Child Care Association (VFCCA) is a group of professional licensed family home childcare providers in Alameda county. VFCCA was established in 1976 and is a Non-Profit organization that provides educational opportunities\, support\, networking\, and fellowship for licensed family childcare professionals. The goal of VFCCA is to inform and educate its members to help create and encourage the highest quality of childcare. \nThe members of VFCCA meet once a month and share current information from licensing\, as well as information from our local resource and referral agency. Together\, all members are invited to share with the group information from workshops and other classes they have attended.” \nVFCCA supports\, advocates\, and provides training and educational opportunities for in-home child care providers and their businesses. \nTo learn more about the association or to become a member\, please feel free to:\n– Contact Lisa Zarodney at (925) 337-0614\n– Email vfcca2023@gmail.com\n– Visit the VFCCA website
URL:https://behively.org/hi/event/valley-family-child-care-association-of-alameda-county-monthly-membership-meeting-3/2026-02-10/
CATEGORIES:Child Care Providers
END:VEVENT
BEGIN:VEVENT
DTSTART;TZID=America/Los_Angeles:20260212T110000
DTEND;TZID=America/Los_Angeles:20260212T120000
DTSTAMP:20260424T083554
CREATED:20260202T180412Z
LAST-MODIFIED:20260202T180412Z
UID:10000327-1770894000-1770897600@behively.org
SUMMARY:Play & Learn Series (For Family\, Friend & Neighbor Unlicensed Child Care Providers)
DESCRIPTION:Do you care for your grandchild\, niece/nephew\, a friend’s child\, or your neighbor’s child? This is sometimes referred to as a babysitter\, a nanny\, a license-exempt child care provider\, or Family\, Friend\, or Neighbor (FFN). \nIf you are one of the above\, please join us for our 4 week playgroup learning series where we will:\n– Engage with other Family\, Friend\, or Neighbors (FFN).\n– Discuss various training topics such as\, school readiness\, social-emotional\, health and safety\, & STEAM!\n– Actively participate in activities with the children in your care.\n– You’ll receive a FREE toy(s) for your participation in each meeting you attend.\n– There is a MONETARY STIPEND AVAILABLE (based on eligibility) \nClick HERE to register.
URL:https://behively.org/hi/event/play-learn-series-for-family-friend-neighbor-unlicensed-child-care-providers/2026-02-12/
LOCATION:Zoom
CATEGORIES:Child Care Providers
END:VEVENT
BEGIN:VEVENT
DTSTART;TZID=America/Los_Angeles:20260213T130000
DTEND;TZID=America/Los_Angeles:20260213T140000
DTSTAMP:20260424T083554
CREATED:20250828T173116Z
LAST-MODIFIED:20250828T173116Z
UID:10000107-1770987600-1770991200@behively.org
SUMMARY:Hively Combined Listening Session
DESCRIPTION:Tri-Valley child care providers\, please join Hively staff for our monthly listening session where we’ll engage in conversation with one another\, offer program updates\, upcoming training and workshops information\, review new and changing regulations\, answer any questions that you may have\, etc. \nREGISTER HERE
URL:https://behively.org/hi/event/hively-combined-listening-session-2/2026-02-13/
CATEGORIES:Child Care Providers
END:VEVENT
BEGIN:VEVENT
DTSTART;TZID=America/Los_Angeles:20260218T183000
DTEND;TZID=America/Los_Angeles:20260218T203000
DTSTAMP:20260424T083554
CREATED:20260128T232242Z
LAST-MODIFIED:20260212T215649Z
UID:10000324-1771439400-1771446600@behively.org
SUMMARY:Pre-Literacy Skills and How to Support Young Learners
DESCRIPTION:Before children can learn phonics\, they need a strong foundation in phonological awareness—the ability to recognize and work with the sounds of spoken language. This workshop offers an engaging overview of phonological awareness\, complete with cue cards and hands-on strategies to support learners at all levels. \nLearning Objectives:\n1) Participants will be able to apply evidence-based\, hands-on strategies and activities to strengthen phonological awareness in young children.\n2) Participants will be able to use interactive tools to make sound awareness instruction engaging and accessible for all learners.\n3) Participants will be able to plan daily routines or small-group activities that embed phonological awareness practice in playful\, meaningful ways. \nClick HERE to register
URL:https://behively.org/hi/event/pre-literacy-skills-and-how-to-support-young-learners/
CATEGORIES:Child Care Providers
END:VEVENT
BEGIN:VEVENT
DTSTART;TZID=America/Los_Angeles:20260219T110000
DTEND;TZID=America/Los_Angeles:20260219T120000
DTSTAMP:20260424T083554
CREATED:20260202T180412Z
LAST-MODIFIED:20260202T180412Z
UID:10000328-1771498800-1771502400@behively.org
SUMMARY:Play & Learn Series (For Family\, Friend & Neighbor Unlicensed Child Care Providers)
DESCRIPTION:Do you care for your grandchild\, niece/nephew\, a friend’s child\, or your neighbor’s child? This is sometimes referred to as a babysitter\, a nanny\, a license-exempt child care provider\, or Family\, Friend\, or Neighbor (FFN). \nIf you are one of the above\, please join us for our 4 week playgroup learning series where we will:\n– Engage with other Family\, Friend\, or Neighbors (FFN).\n– Discuss various training topics such as\, school readiness\, social-emotional\, health and safety\, & STEAM!\n– Actively participate in activities with the children in your care.\n– You’ll receive a FREE toy(s) for your participation in each meeting you attend.\n– There is a MONETARY STIPEND AVAILABLE (based on eligibility) \nClick HERE to register.
URL:https://behively.org/hi/event/play-learn-series-for-family-friend-neighbor-unlicensed-child-care-providers/2026-02-19/
LOCATION:Zoom
CATEGORIES:Child Care Providers
END:VEVENT
BEGIN:VEVENT
DTSTART;TZID=America/Los_Angeles:20260219T183000
DTEND;TZID=America/Los_Angeles:20260219T203000
DTSTAMP:20260424T083554
CREATED:20260203T191420Z
LAST-MODIFIED:20260203T191420Z
UID:10000336-1771525800-1771533000@behively.org
SUMMARY:Looking at Parenting Through Another Lens\, Knowledge of Parenting and Child Development
DESCRIPTION:Looking at Parenting Through a Different Lens\nKnowledge of Parenting and Child Development\nJoin Hively Staff in exploring how important it is for parents to understand their role in their child’s lives and to have basic knowledge of child development.\nLearning Objectives:\n• Understand what it means to have knowledge of parenting and child development.\n• Develop a deeper understanding of how this knowledge can help parents to be more confident and help their children develop.\n• Identify ways that culture influences how parents raise their children.\n• Explore strategies that systems can use to strengthen parenting.\n• Identify everyday actions you will implement in your work to increase parenting knowledge. \nCCIP ECE Competencies Topic: Family and Community Engagement & Child Development\nCheck with your PGA to confirm this training counts as Professional Growth Hours. \nClick HERE to register.
URL:https://behively.org/hi/event/looking-at-parenting-through-another-lens-knowledge-of-parenting-and-child-development/
CATEGORIES:Child Care Providers
END:VEVENT
BEGIN:VEVENT
DTSTART;TZID=America/Los_Angeles:20260221T093000
DTEND;TZID=America/Los_Angeles:20260221T113000
DTSTAMP:20260424T083554
CREATED:20260203T191011Z
LAST-MODIFIED:20260203T191011Z
UID:10000334-1771666200-1771673400@behively.org
SUMMARY:Ouch That Hurts! You've Got Biting
DESCRIPTION:When young children are cared for in group settings biting can happen. This typical\, developmentally appropriate\, behavior can cause adults to feel angry and powerless. It causes concern and discomfort for everyone involved. The good news is that most children outgrow this behavior. The more child care providers learn about why children bite\, and how to practice responsive caregiving\, the better prepared they will be to stay calm and focused on reducing instances of biting in their child care setting. \nBy the end of this presentation\, attendees will understand that biting happens for a reason\, learn the warning signs that often precede biting\, and develop strategies that will help reduce the occurrence of biting in their child care setting. \nLearning Objectives\nAttendees will:\n• Identify the reasons that Toddlers bite\n• Develop strategies that respond to biting appropriately and effectively\n• Learn practices to put in place that help reduce the likelihood of biting taking place\n• Understand the importance of promoting confidentiality when children are speaking openly about the child who bit and the child who was bitten \nCCIP ECE Competencies Topic: Child Development & Relationships\, Interactions\, and Guidance\nCheck with your PGA to confirm this training counts as Professional Growth Hours. \nClick HERE to register.
URL:https://behively.org/hi/event/ouch-that-hurts-youve-got-biting/
CATEGORIES:Child Care Providers
END:VEVENT
BEGIN:VEVENT
DTSTART;TZID=America/Los_Angeles:20260223T183000
DTEND;TZID=America/Los_Angeles:20260223T200000
DTSTAMP:20260424T083554
CREATED:20260203T191157Z
LAST-MODIFIED:20260203T191157Z
UID:10000335-1771871400-1771876800@behively.org
SUMMARY:Hively Virtual Evening Hours
DESCRIPTION:Family Home Child Care Providers\, Center Based Child Care Providers\, and Family\, Friend\, and Neighbor caregivers are welcome to address child care related questions\, assistance with TA related to your Child Care Program/staff\, or professional development opportunities\, tracking\, and earned hours during Hively’s Virtual Evening Office Hours. \nClick HERE to register.
URL:https://behively.org/hi/event/hively-virtual-evening-hours-3/
CATEGORIES:Child Care Providers
END:VEVENT
BEGIN:VEVENT
DTSTART;TZID=America/Los_Angeles:20260224T183000
DTEND;TZID=America/Los_Angeles:20260224T203000
DTSTAMP:20260424T083554
CREATED:20260203T191556Z
LAST-MODIFIED:20260203T191556Z
UID:10000337-1771957800-1771965000@behively.org
SUMMARY:Anchor Texts and Experiences for Dual Language Learners (POLL)
DESCRIPTION:This session introduces the use of Anchor Texts and Experiences to build oral language and conceptual understanding. Participants learn how to plan meaningful\, vocabulary-rich experiences that support learning in both home languages and English using interactive strategies that deepen engagement and comprehension.\nCCIP ECE Competencies Topic: Dual Language Development (DLL)\nCheck with your PGA to confirm this training counts as Professional Growth Hours. \nClick HERE to register
URL:https://behively.org/hi/event/anchor-texts-and-experiences-for-dual-language-learners-poll/
CATEGORIES:Child Care Providers
END:VEVENT
BEGIN:VEVENT
DTSTART;TZID=America/Los_Angeles:20260225T130000
DTEND;TZID=America/Los_Angeles:20260225T133000
DTSTAMP:20260424T083554
CREATED:20260128T232506Z
LAST-MODIFIED:20260128T232506Z
UID:10000325-1772024400-1772026200@behively.org
SUMMARY:Hively Book Club
DESCRIPTION:Join us for our Book Club! Once a month we will read a new book\, and each attendee will receive a copy of the book! Build your children’s book library and the tools to implement them into your child care program or home! \n*Please note: All participants are expected to use the educational incentive for the children in their care and/or to build up their early literacy library in their program and/or home. \nClick HERE to register.
URL:https://behively.org/hi/event/hively-book-club-6/
CATEGORIES:Child Care Providers,Parents
END:VEVENT
BEGIN:VEVENT
DTSTART;TZID=America/Los_Angeles:20260226T110000
DTEND;TZID=America/Los_Angeles:20260226T120000
DTSTAMP:20260424T083554
CREATED:20260202T180412Z
LAST-MODIFIED:20260202T180412Z
UID:10000329-1772103600-1772107200@behively.org
SUMMARY:Play & Learn Series (For Family\, Friend & Neighbor Unlicensed Child Care Providers)
DESCRIPTION:Do you care for your grandchild\, niece/nephew\, a friend’s child\, or your neighbor’s child? This is sometimes referred to as a babysitter\, a nanny\, a license-exempt child care provider\, or Family\, Friend\, or Neighbor (FFN). \nIf you are one of the above\, please join us for our 4 week playgroup learning series where we will:\n– Engage with other Family\, Friend\, or Neighbors (FFN).\n– Discuss various training topics such as\, school readiness\, social-emotional\, health and safety\, & STEAM!\n– Actively participate in activities with the children in your care.\n– You’ll receive a FREE toy(s) for your participation in each meeting you attend.\n– There is a MONETARY STIPEND AVAILABLE (based on eligibility) \nClick HERE to register.
URL:https://behively.org/hi/event/play-learn-series-for-family-friend-neighbor-unlicensed-child-care-providers/2026-02-26/
LOCATION:Zoom
CATEGORIES:Child Care Providers
END:VEVENT
BEGIN:VEVENT
DTSTART;TZID=America/Los_Angeles:20260228T080000
DTEND;TZID=America/Los_Angeles:20260228T163000
DTSTAMP:20260424T083554
CREATED:20260202T180918Z
LAST-MODIFIED:20260203T003546Z
UID:10000331-1772265600-1772296200@behively.org
SUMMARY:REGISTRATION CLOSED - EMSA Licensed Child Care Pediatric CPR (Infant\, Child & Adult) & First Aid Certification (AED included)
DESCRIPTION:Registration is closed.  Class is at capacity.
URL:https://behively.org/hi/event/registration-closed-class-is-full-emsa-licensed-child-care-pediatric-cpr-infant-child-adult-first-aid-certification-aed-included-2/
CATEGORIES:Child Care Providers
END:VEVENT
END:VCALENDAR