BEGIN:VCALENDAR
VERSION:2.0
PRODID:-//Hively - ECPv6.15.20//NONSGML v1.0//EN
CALSCALE:GREGORIAN
METHOD:PUBLISH
X-ORIGINAL-URL:https://behively.org/hi/
X-WR-CALDESC:Events for Hively
REFRESH-INTERVAL;VALUE=DURATION:PT1H
X-Robots-Tag:noindex
X-PUBLISHED-TTL:PT1H
BEGIN:VTIMEZONE
TZID:America/Los_Angeles
BEGIN:DAYLIGHT
TZOFFSETFROM:-0800
TZOFFSETTO:-0700
TZNAME:PDT
DTSTART:20250309T100000
END:DAYLIGHT
BEGIN:STANDARD
TZOFFSETFROM:-0700
TZOFFSETTO:-0800
TZNAME:PST
DTSTART:20251102T090000
END:STANDARD
BEGIN:DAYLIGHT
TZOFFSETFROM:-0800
TZOFFSETTO:-0700
TZNAME:PDT
DTSTART:20260308T100000
END:DAYLIGHT
BEGIN:STANDARD
TZOFFSETFROM:-0700
TZOFFSETTO:-0800
TZNAME:PST
DTSTART:20261101T090000
END:STANDARD
BEGIN:DAYLIGHT
TZOFFSETFROM:-0800
TZOFFSETTO:-0700
TZNAME:PDT
DTSTART:20270314T100000
END:DAYLIGHT
BEGIN:STANDARD
TZOFFSETFROM:-0700
TZOFFSETTO:-0800
TZNAME:PST
DTSTART:20271107T090000
END:STANDARD
END:VTIMEZONE
BEGIN:VEVENT
DTSTART;TZID=America/Los_Angeles:20260107T133000
DTEND;TZID=America/Los_Angeles:20260107T153000
DTSTAMP:20260424T015555
CREATED:20251110T205221Z
LAST-MODIFIED:20251217T002309Z
UID:10000229-1767792600-1767799800@behively.org
SUMMARY:Dr. Herbert Guice Christian Academy Pop-Up Event
DESCRIPTION:This event is open to the public\, but it primarily targets families in the surrounding area\, as it’s located across the street from an elementary school and public library. Our goal is to enroll families with CalFresh and Covered California while creating a safe and positive community space to share our resources — including books\, diapers\, and clothing. \nClick for the EVENT FLYER
URL:https://behively.org/hi/event/dr-herbert-guice-christian-academy-pop-up-event/
LOCATION:Dr. Herbert Guice Christian Academy\, 6925 International Blvd.\, Oakland
CATEGORIES:Hive on Wheels - Community Events
END:VEVENT
BEGIN:VEVENT
DTSTART;TZID=America/Los_Angeles:20260112T130000
DTEND;TZID=America/Los_Angeles:20260112T160000
DTSTAMP:20260424T015555
CREATED:20260105T220530Z
LAST-MODIFIED:20260105T220530Z
UID:10000309-1768222800-1768233600@behively.org
SUMMARY:Alameda County WIC - Livermore
DESCRIPTION:In partnership with Alameda County Women\, Infants & Children (WIC) program\, the Hive on Wheels will be at the WIC-Livermore location distributing diapers\, wipes\, children’s clothing and books. Our team of Ambassadors will be conducting five-minute CalFresh eligibility prescreening as part of our “Fresh in Five” campaign! All are welcome. \nClick the link below for the event flyer. \nWIC Event Livermore
URL:https://behively.org/hi/event/alameda-county-wic-livermore/
LOCATION:Hively’s Livermore Office\, 164 N. L Street\, Livermore\, CA
CATEGORIES:Hive on Wheels - Community Events
END:VEVENT
BEGIN:VEVENT
DTSTART;TZID=America/Los_Angeles:20260114T130000
DTEND;TZID=America/Los_Angeles:20260114T153000
DTSTAMP:20260424T015555
CREATED:20260108T213434Z
LAST-MODIFIED:20260112T163522Z
UID:10000311-1768395600-1768404600@behively.org
SUMMARY:San Lorenzo Unified School District FRC Pop-Up
DESCRIPTION:Come join the Hive on Wheels at the San Lorenzo Unified School District FRC for a community food distribution\, where you can get help applying for CalFresh benefits and pick up free diapers\, wipes\, children’s books\, clothing\, and coats for both children and adults.
URL:https://behively.org/hi/event/san-lorenzo-unified-school-district-frc-pop-up/
LOCATION:San Lorenzo Unified School District\, 20450 Royal Avenue\, Hayward\, CA
CATEGORIES:Hive on Wheels - Community Events
END:VEVENT
BEGIN:VEVENT
DTSTART;TZID=America/Los_Angeles:20260120T140000
DTEND;TZID=America/Los_Angeles:20260120T163000
DTSTAMP:20260424T015555
CREATED:20260114T195833Z
LAST-MODIFIED:20260114T195833Z
UID:10000318-1768917600-1768926600@behively.org
SUMMARY:South Berkeley Farmers Market
DESCRIPTION:Come swing by the Hive on Wheels van\, where you can get help with CalFresh application assistance and pick up free diapers\, wipes\, children’s books\, clothing\, and coats for both children and adults.
URL:https://behively.org/hi/event/south-berkeley-farmers-market/
LOCATION:South Berkeley Famers Market\, Adeline Street & 63rd Street
CATEGORIES:Hive on Wheels - Community Events
END:VEVENT
BEGIN:VEVENT
DTSTART;TZID=America/Los_Angeles:20260124T090000
DTEND;TZID=America/Los_Angeles:20260124T120000
DTSTAMP:20260424T015555
CREATED:20260122T214546Z
LAST-MODIFIED:20260122T214546Z
UID:10000322-1769245200-1769256000@behively.org
SUMMARY:Salaam Food Pantry Pop-Up
DESCRIPTION:The Hive on Wheels will be joining the Salaam Food Pantry for their on-site food distribution. After receiving their food\, community members are welcome to stop by the van to receive free diapers\, wipes\, clothing\, and books. Need food assistance? We can also provide on-site CalFresh pre-screenings to see if you qualify for free groceries.
URL:https://behively.org/hi/event/salaam-food-pantry-pop-up/
LOCATION:Salaam Food Pantry\, 4080 Bay Street\, Suite A\, Fremont\, CA
CATEGORIES:Hive on Wheels - Community Events
END:VEVENT
BEGIN:VEVENT
DTSTART;TZID=America/Los_Angeles:20260126T170000
DTEND;TZID=America/Los_Angeles:20260126T183000
DTSTAMP:20260424T015555
CREATED:20251217T002017Z
LAST-MODIFIED:20251217T002017Z
UID:10000239-1769446800-1769452200@behively.org
SUMMARY:Madrone Terrace Outreach Pop-Up
DESCRIPTION:The Hive on Wheels will be at Madrone Terrace with free diapers and wipes\, children’s books and clothing. We will also be conducing onsite\, five-minute CalFresh prescreenings\, as part of our “Fresh in Five” campaign! This event is open to the public. See you there!
URL:https://behively.org/hi/event/madrone-terrace-outreach-pop-up/
LOCATION:Madrone Terrace\, 16060 E 14th Street\, San Leandro\, CA\, 94578
CATEGORIES:Hive on Wheels - Community Events
END:VEVENT
BEGIN:VEVENT
DTSTART;TZID=America/Los_Angeles:20260129T150000
DTEND;TZID=America/Los_Angeles:20260129T170000
DTSTAMP:20260424T015555
CREATED:20260112T192915Z
LAST-MODIFIED:20260112T192915Z
UID:10000316-1769698800-1769706000@behively.org
SUMMARY:Newark Family Resource Center Grand Opening
DESCRIPTION:With the Newark FRC opening\, Hive on Wheels will be in attendance for their resource fair. We will be assiting individuals with getting on Cal Fresh and have our usual resources from free diapers\, books\, wipes\, clothing\, and books. Honey will be making an appearance so be sure to stop by and take some pictures with her!
URL:https://behively.org/hi/event/newark-family-resource-center-grand-opening/
LOCATION:Newark FRC\, 37365 Ash Street\, Newark\, CA
CATEGORIES:Hive on Wheels - Community Events
END:VEVENT
END:VCALENDAR