BEGIN:VCALENDAR
VERSION:2.0
PRODID:-//Hively - ECPv6.15.20//NONSGML v1.0//EN
CALSCALE:GREGORIAN
METHOD:PUBLISH
X-ORIGINAL-URL:https://behively.org/ko/
X-WR-CALDESC:Hively 이벤트
REFRESH-INTERVAL;VALUE=DURATION:PT1H
X-Robots-Tag:noindex
X-PUBLISHED-TTL:PT1H
BEGIN:VTIMEZONE
TZID:America/Los_Angeles
BEGIN:DAYLIGHT
TZOFFSETFROM:-0800
TZOFFSETTO:-0700
TZNAME:PDT
DTSTART:20250309T100000
END:DAYLIGHT
BEGIN:STANDARD
TZOFFSETFROM:-0700
TZOFFSETTO:-0800
TZNAME:PST
DTSTART:20251102T090000
END:STANDARD
BEGIN:DAYLIGHT
TZOFFSETFROM:-0800
TZOFFSETTO:-0700
TZNAME:PDT
DTSTART:20260308T100000
END:DAYLIGHT
BEGIN:STANDARD
TZOFFSETFROM:-0700
TZOFFSETTO:-0800
TZNAME:PST
DTSTART:20261101T090000
END:STANDARD
BEGIN:DAYLIGHT
TZOFFSETFROM:-0800
TZOFFSETTO:-0700
TZNAME:PDT
DTSTART:20270314T100000
END:DAYLIGHT
BEGIN:STANDARD
TZOFFSETFROM:-0700
TZOFFSETTO:-0800
TZNAME:PST
DTSTART:20271107T090000
END:STANDARD
END:VTIMEZONE
BEGIN:VEVENT
DTSTART;TZID=America/Los_Angeles:20260321T130000
DTEND;TZID=America/Los_Angeles:20260321T153000
DTSTAMP:20260423T212150
CREATED:20260309T221945Z
LAST-MODIFIED:20260309T221945Z
UID:10000359-1774098000-1774107000@behively.org
SUMMARY:Know Your Value: Marketing for Family Home Child Care Programs
DESCRIPTION:Prospective Licensees\, newly licensed and experienced Family Home Child Care Providers new to marketing strategies are invited to learn about creating a Marketing Plan that includes: \n\nIdentifying the Benefits of Your Child Care Program\nMarketing within Your Community\nMarketing Online\nShort Term and Long Term Marketing Strategies\nBuilding Authentic Business Relationships\nEvaluating Your Successes and Challenges\n\nParticipants who complete this training will receive a copy of Tom Copeland’s Marketing Guide in a digital or hard copy format. \nREGISTER HERE \nCCIP ECE Competencies Topic: Administration & Supervision\nCheck with your PGA to confirm this training counts as Professional Growth Hours
URL:https://behively.org/ko/event/know-your-value-marketing-for-family-home-child-care-programs/
CATEGORIES:Child Care Providers
END:VEVENT
END:VCALENDAR