BEGIN:VCALENDAR
VERSION:2.0
PRODID:-//Hively - ECPv6.15.20//NONSGML v1.0//EN
CALSCALE:GREGORIAN
METHOD:PUBLISH
X-WR-CALNAME:Hively
X-ORIGINAL-URL:https://behively.org/pa/
X-WR-CALDESC:Events for Hively
REFRESH-INTERVAL;VALUE=DURATION:PT1H
X-Robots-Tag:noindex
X-PUBLISHED-TTL:PT1H
BEGIN:VTIMEZONE
TZID:America/Los_Angeles
BEGIN:DAYLIGHT
TZOFFSETFROM:-0800
TZOFFSETTO:-0700
TZNAME:PDT
DTSTART:20240310T100000
END:DAYLIGHT
BEGIN:STANDARD
TZOFFSETFROM:-0700
TZOFFSETTO:-0800
TZNAME:PST
DTSTART:20241103T090000
END:STANDARD
BEGIN:DAYLIGHT
TZOFFSETFROM:-0800
TZOFFSETTO:-0700
TZNAME:PDT
DTSTART:20250309T100000
END:DAYLIGHT
BEGIN:STANDARD
TZOFFSETFROM:-0700
TZOFFSETTO:-0800
TZNAME:PST
DTSTART:20251102T090000
END:STANDARD
BEGIN:DAYLIGHT
TZOFFSETFROM:-0800
TZOFFSETTO:-0700
TZNAME:PDT
DTSTART:20260308T100000
END:DAYLIGHT
BEGIN:STANDARD
TZOFFSETFROM:-0700
TZOFFSETTO:-0800
TZNAME:PST
DTSTART:20261101T090000
END:STANDARD
END:VTIMEZONE
BEGIN:VEVENT
DTSTART;TZID=America/Los_Angeles:20250715T183000
DTEND;TZID=America/Los_Angeles:20250715T203000
DTSTAMP:20260419T053518
CREATED:20250612T210809Z
LAST-MODIFIED:20250613T185535Z
UID:7446-1752604200-1752611400@behively.org
SUMMARY:Understanding Implicit Bias and Unconscious Decision Making (Zoom)
DESCRIPTION:By attending this course attendees will review how research has measured implicit beliefs. The course will describe how the Implicit Association Test (IAT) has been used as a tool to measure implicit biases. This course will review what is implicit bias and attendees will be able to evaluate how this may occur in their practice. The course will cover how we make decisions and the impact it has on our practice. Attendees will be able to describe the difference between Explicit and Implicit bias. The course will list 3 examples of explicit and implicit biases for attendees to review. This course will illustrate the impacts of implicit bias in the workplaces and encourage participant discussion on reducing the impact. Attendees will develop an awareness of implicit bias and the impact it has on the system-involved youth and families. The course will compare cultural values and backgrounds on how they impact biases. \nLearning Objectives\nParticipants will be able to:\n1. Evaluate how decision-making impacts our practice when working with system involved youth and families.\n2. Describe the difference between explicit and implicit bias.\n3. Illustrate the impacts of implicit bias.\n4. List 3 examples of explicit and implicit biases. \nRegistration Link: https://behively-org.zoom.us/meeting/register/ZOi_mArvRkKOqBCpQugl-w
URL:https://behively.org/pa/event/understanding-implicit-bias-and-unconscious-decision-making-zoom/
CATEGORIES:Child Care Providers
ATTACH;FMTTYPE=image/webp:https://behively.org/wp-content/uploads/2025/06/istockphoto-1092432244-612x612-2.webp
END:VEVENT
END:VCALENDAR