BEGIN:VCALENDAR
VERSION:2.0
PRODID:-//Hively - ECPv6.15.20//NONSGML v1.0//EN
CALSCALE:GREGORIAN
METHOD:PUBLISH
X-WR-CALNAME:Hively
X-ORIGINAL-URL:https://behively.org/tl/
X-WR-CALDESC:Events for Hively
REFRESH-INTERVAL;VALUE=DURATION:PT1H
X-Robots-Tag:noindex
X-PUBLISHED-TTL:PT1H
BEGIN:VTIMEZONE
TZID:America/Los_Angeles
BEGIN:DAYLIGHT
TZOFFSETFROM:-0800
TZOFFSETTO:-0700
TZNAME:PDT
DTSTART:20250309T100000
END:DAYLIGHT
BEGIN:STANDARD
TZOFFSETFROM:-0700
TZOFFSETTO:-0800
TZNAME:PST
DTSTART:20251102T090000
END:STANDARD
BEGIN:DAYLIGHT
TZOFFSETFROM:-0800
TZOFFSETTO:-0700
TZNAME:PDT
DTSTART:20260308T100000
END:DAYLIGHT
BEGIN:STANDARD
TZOFFSETFROM:-0700
TZOFFSETTO:-0800
TZNAME:PST
DTSTART:20261101T090000
END:STANDARD
BEGIN:DAYLIGHT
TZOFFSETFROM:-0800
TZOFFSETTO:-0700
TZNAME:PDT
DTSTART:20270314T100000
END:DAYLIGHT
BEGIN:STANDARD
TZOFFSETFROM:-0700
TZOFFSETTO:-0800
TZNAME:PST
DTSTART:20271107T090000
END:STANDARD
END:VTIMEZONE
BEGIN:VEVENT
DTSTART;TZID=America/Los_Angeles:20260328T090000
DTEND;TZID=America/Los_Angeles:20260328T113000
DTSTAMP:20260425T165313
CREATED:20260309T224142Z
LAST-MODIFIED:20260309T224142Z
UID:11087-1774688400-1774697400@behively.org
SUMMARY:Family Home Child Care Disaster Planning 3-Part Series 'Part 1: Communication in Disasters'
DESCRIPTION:Disasters come in many forms\, and can occur anywhere\, at any time. Emergency management is an ongoing cycle with four phases: Mitigation\, Preparedness\, Response\, and Recovery with regular updating\, communicating\, assessing\, and reevaluating of how to respond in a disaster. \nWhen a disaster strikes\, there is naturally turmoil\, panic\, and fear. Preparedness is essential. Established communication protocols and procedures reduce anxiety\, help avoid duplication\, provide critical information and updates\, and ensure that no one in the child care community is forgotten. \nJoin Hively Staff for a 3-Part Series of Disaster Planning. Sessions 2 & 3 (Preparedness\, Response\, and Recovery) are scheduled in April.\nSession One: \nMitigation: Communication in Disasters \nLearning Objectives:\n• Participants will identify Local Emergency Services\n• Participants will identify how to access Warnings\, Alerts\, and Public Safety Updates\n• Participants will create or update their Emergency Preparedness Communication Plan \nREGISTER HERE \nCCIP ECE Competencies Topic: Health\, Safety\, and Nutrition\nCheck with your PGA to confirm this training counts as Professional Growth Hours.
URL:https://behively.org/tl/event/family-home-child-care-disaster-planning-3-part-series-part-1-communication-in-disasters/
CATEGORIES:Child Care Providers
END:VEVENT
END:VCALENDAR