BEGIN:VCALENDAR
VERSION:2.0
PRODID:-//Hively - ECPv6.15.20//NONSGML v1.0//EN
CALSCALE:GREGORIAN
METHOD:PUBLISH
X-WR-CALNAME:Hively
X-ORIGINAL-URL:https://behively.org/vi/
X-WR-CALDESC:Events for Hively
REFRESH-INTERVAL;VALUE=DURATION:PT1H
X-Robots-Tag:noindex
X-PUBLISHED-TTL:PT1H
BEGIN:VTIMEZONE
TZID:America/Los_Angeles
BEGIN:DAYLIGHT
TZOFFSETFROM:-0800
TZOFFSETTO:-0700
TZNAME:PDT
DTSTART:20240310T100000
END:DAYLIGHT
BEGIN:STANDARD
TZOFFSETFROM:-0700
TZOFFSETTO:-0800
TZNAME:PST
DTSTART:20241103T090000
END:STANDARD
BEGIN:DAYLIGHT
TZOFFSETFROM:-0800
TZOFFSETTO:-0700
TZNAME:PDT
DTSTART:20250309T100000
END:DAYLIGHT
BEGIN:STANDARD
TZOFFSETFROM:-0700
TZOFFSETTO:-0800
TZNAME:PST
DTSTART:20251102T090000
END:STANDARD
BEGIN:DAYLIGHT
TZOFFSETFROM:-0800
TZOFFSETTO:-0700
TZNAME:PDT
DTSTART:20260308T100000
END:DAYLIGHT
BEGIN:STANDARD
TZOFFSETFROM:-0700
TZOFFSETTO:-0800
TZNAME:PST
DTSTART:20261101T090000
END:STANDARD
END:VTIMEZONE
BEGIN:VEVENT
DTSTART;TZID=America/Los_Angeles:20250909T183000
DTEND;TZID=America/Los_Angeles:20250909T203000
DTSTAMP:20260420T221602
CREATED:20250828T174801Z
LAST-MODIFIED:20250828T174801Z
UID:9879-1757442600-1757449800@behively.org
SUMMARY:Child Care Means Business 201 #1:  Building a Strong Foundation for Your Program—Contracts & Policies
DESCRIPTION:Child Care Means Business 201 #1 \nProspective Licensees\, newly licensed Family Home Child Care Providers\, and experienced Family Home Child Care Providers new to writing a Contract and Policy Handbook are invited to learn: \n• How to Be Friendly While You Keep it Business\n• The Importance of Clear Communication\n• What to Consider When Writing Your Family Home Child Care Contract\n• What to Consider When Writing Your Child Care Program Policies\n• Enforcing Your Family Home Child Care Contract and Policies \nParticipants who complete this training will receive a copy of Tom Copeland’s Contracts and Policies in a digital or hard copy format. This text includes sample contract and policies language. \nCCIP ECE Competencies Topic: Administration & Supervision\nCheck with your PGA to confirm this training counts as Professional Growth Hours. \nREGISTER HERE
URL:https://behively.org/vi/event/child-care-means-business-201-1-building-a-strong-foundation-for-your-program-contracts-policies/
CATEGORIES:Child Care Providers
END:VEVENT
END:VCALENDAR